Index of /checkResults/devel/bioc-LATEST/Organism.dplyr/raw-results/merida1

[ICO]NameLast modifiedSizeDescription

[DIR]Parent Directory  -  
[TXT]buildbin-out.txt02-Mar-2024 01:39 1.2K 
[   ]buildbin-summary.dcf02-Mar-2024 01:39 572  
[TXT]buildsrc-out.txt02-Mar-2024 01:39 844  
[   ]buildsrc-summary.dcf02-Mar-2024 01:39 449  
[TXT]checksrc-out.txt02-Mar-2024 01:39 3.8K 
[   ]checksrc-summary.dcf02-Mar-2024 01:39 473  
[TXT]install-out.txt02-Mar-2024 01:39 1.0K 
[   ]install-summary.dcf02-Mar-2024 01:39 283