Name | Last modified | Size | Description | |
---|---|---|---|---|
Parent Directory | - | |||
buildsrc-out.txt | 18-Jun-2024 01:23 | 838 | ||
buildsrc-summary.dcf | 18-Jun-2024 01:23 | 429 | ||
checksrc-out.txt | 18-Jun-2024 01:23 | 3.2K | ||
checksrc-summary.dcf | 18-Jun-2024 01:23 | 422 | ||
install-out.txt | 18-Jun-2024 01:23 | 958 | ||
install-summary.dcf | 18-Jun-2024 01:23 | 263 | ||