Back to Multiple platform build/check report for BioC 3.15
ABCDEFGHIJKLMN[O]PQRSTUVWXYZ

This page was generated on 2022-01-18 11:07:55 -0500 (Tue, 18 Jan 2022).

HostnameOSArch (*)R versionInstalled pkgs
nebbiolo1Linux (Ubuntu 20.04.4 LTS)x86_64R Under development (unstable) (2022-01-05 r81451) -- "Unsuffered Consequences" 4161
riesling1Windows Server 2019 Standardx64R Under development (unstable) (2021-11-21 r81221) -- "Unsuffered Consequences" 4056
palomino3Windows Server 2022 Datacenterx64R Under development (unstable) (2021-12-21 r81400 ucrt) -- "Unsuffered Consequences" 3998
merida1macOS 10.14.6 Mojavex86_64R Under development (unstable) (2022-01-05 r81451) -- "Unsuffered Consequences" 4115
Click on any hostname to see more info about the system (e.g. compilers)      (*) as reported by 'uname -p', except on Windows and Mac OS X

BUILD results for Onassis on riesling1


To the developers/maintainers of the Onassis package:
- Please allow up to 24 hours (and sometimes 48 hours) for your latest push to git@git.bioconductor.org:packages/Onassis.git to
reflect on this report. See How and When does the builder pull? When will my changes propagate? here for more information.
- Make sure to use the following settings in order to reproduce any error or warning you see on this page.

raw results

Package 1327/2074HostnameOS / ArchINSTALLBUILDCHECKBUILD BIN
Onassis 1.17.2  (landing page)
Eugenia Galeota
Snapshot Date: 2022-01-17 13:55:17 -0500 (Mon, 17 Jan 2022)
git_url: https://git.bioconductor.org/packages/Onassis
git_branch: master
git_last_commit: b8ab112
git_last_commit_date: 2021-12-16 16:44:59 -0500 (Thu, 16 Dec 2021)
nebbiolo1Linux (Ubuntu 20.04.4 LTS) / x86_64  ERROR    ERROR  skipped
riesling1Windows Server 2019 Standard / x64  ERROR    ERROR  skippedskipped
palomino3Windows Server 2022 Datacenter / x64  ERROR    ERROR  skippedskipped
merida1macOS 10.14.6 Mojave / x86_64  ERROR    ERROR  skippedskipped

Summary

Package: Onassis
Version: 1.17.2
Command: chmod a+r Onassis -R && D:\biocbuild\bbs-3.15-bioc\R\bin\R.exe CMD build --keep-empty-dirs --no-resave-data Onassis
StartedAt: 2022-01-17 17:24:49 -0500 (Mon, 17 Jan 2022)
EndedAt: 2022-01-17 17:24:51 -0500 (Mon, 17 Jan 2022)
EllapsedTime: 2.0 seconds
RetCode: 1
Status:   ERROR  
PackageFile: None
PackageFileSize: NA

Command output

##############################################################################
##############################################################################
###
### Running command:
###
###   chmod a+r Onassis -R && D:\biocbuild\bbs-3.15-bioc\R\bin\R.exe CMD build --keep-empty-dirs --no-resave-data Onassis
###
##############################################################################
##############################################################################


* checking for file 'Onassis/DESCRIPTION' ... OK
* preparing 'Onassis':
* checking DESCRIPTION meta-information ... OK
* installing the package to build vignettes
      -----------------------------------
ERROR: dependency 'clusteval' is not available for package 'Onassis'
* removing 'D:/biocbuild/bbs-3.15-bioc/tmpdir/Rtmpgf1VrM/Rinst39285ff24d4/Onassis'
      -----------------------------------
ERROR: package installation failed