Back to Multiple platform build/check report for BioC 3.15
ABCDEFGHIJKLMN[O]PQRSTUVWXYZ

This page was generated on 2021-12-07 12:33:27 -0500 (Tue, 07 Dec 2021).

All results for package Onassis

To the developers/maintainers of the Onassis package:
- Please allow up to 24 hours (and sometimes 48 hours) for your latest push to git@git.bioconductor.org:packages/Onassis.git to
reflect on this report. See How and When does the builder pull? When will my changes propagate? here for more information.
- Make sure to use the following settings in order to reproduce any error or warning you see on this page.

raw results

Package 1321/2068HostnameOS / ArchINSTALLBUILDCHECKBUILD BIN
Onassis 1.17.2  (landing page)
Eugenia Galeota
Snapshot Date: 2021-12-06 13:55:08 -0500 (Mon, 06 Dec 2021)
git_url: https://git.bioconductor.org/packages/Onassis
git_branch: master
git_last_commit: 9dfc481
git_last_commit_date: 2021-11-21 00:40:12 -0500 (Sun, 21 Nov 2021)
nebbiolo1Linux (Ubuntu 20.04.3 LTS) / x86_64  ERROR    ERROR  skipped
merida1macOS 10.14.6 Mojave / x86_64  ERROR    ERROR  skippedskipped