Back to Multiple platform build/check report for BioC 3.15
ABCDEFGHIJKLMN[O]PQRSTUVWXYZ

This page was generated on 2022-01-20 11:07:55 -0500 (Thu, 20 Jan 2022).

HostnameOSArch (*)R versionInstalled pkgs
nebbiolo1Linux (Ubuntu 20.04.4 LTS)x86_64R Under development (unstable) (2022-01-05 r81451) -- "Unsuffered Consequences" 4162
riesling1Windows Server 2019 Standardx64R Under development (unstable) (2021-11-21 r81221) -- "Unsuffered Consequences" 4057
palomino3Windows Server 2022 Datacenterx64R Under development (unstable) (2021-12-21 r81400 ucrt) -- "Unsuffered Consequences" 3999
merida1macOS 10.14.6 Mojavex86_64R Under development (unstable) (2022-01-05 r81451) -- "Unsuffered Consequences" 4116
Click on any hostname to see more info about the system (e.g. compilers)      (*) as reported by 'uname -p', except on Windows and Mac OS X

INSTALL results for OmicsLonDA on riesling1


To the developers/maintainers of the OmicsLonDA package:
- Please allow up to 24 hours (and sometimes 48 hours) for your latest push to git@git.bioconductor.org:packages/OmicsLonDA.git to
reflect on this report. See How and When does the builder pull? When will my changes propagate? here for more information.
- Make sure to use the following settings in order to reproduce any error or warning you see on this page.

raw results

Package 1322/2074HostnameOS / ArchINSTALLBUILDCHECKBUILD BIN
OmicsLonDA 1.11.1  (landing page)
Ahmed A. Metwally
Snapshot Date: 2022-01-19 13:55:26 -0500 (Wed, 19 Jan 2022)
git_url: https://git.bioconductor.org/packages/OmicsLonDA
git_branch: master
git_last_commit: 67af5e0
git_last_commit_date: 2021-11-21 00:39:43 -0500 (Sun, 21 Nov 2021)
nebbiolo1Linux (Ubuntu 20.04.4 LTS) / x86_64  OK    OK    OK  UNNEEDED, same version is already published
riesling1Windows Server 2019 Standard / x64  OK    OK    OK    OK  
palomino3Windows Server 2022 Datacenter / x64  OK    OK    OK    OK  NO, package depends on 'SummarizedExperiment' which is not available
merida1macOS 10.14.6 Mojave / x86_64  OK    ERROR  skippedskipped

Summary

Package: OmicsLonDA
Version: 1.11.1
Command: D:\biocbuild\bbs-3.15-bioc\R\bin\R.exe CMD INSTALL OmicsLonDA
StartedAt: 2022-01-19 15:39:08 -0500 (Wed, 19 Jan 2022)
EndedAt: 2022-01-19 15:40:38 -0500 (Wed, 19 Jan 2022)
EllapsedTime: 90.2 seconds
RetCode: 0
Status:   OK  

Command output

##############################################################################
##############################################################################
###
### Running command:
###
###   D:\biocbuild\bbs-3.15-bioc\R\bin\R.exe CMD INSTALL OmicsLonDA
###
##############################################################################
##############################################################################


* installing to library 'D:/biocbuild/bbs-3.15-bioc/R/library'
* installing *source* package 'OmicsLonDA' ...
** using staged installation
** R
** data
*** moving datasets to lazyload DB
** byte-compile and prepare package for lazy loading
** help
*** installing help indices
  converting help for package 'OmicsLonDA'
    finding HTML links ... done
    adjustBaseline                          html  
    curveFitting                            html  
    findSigInterval                         html  
    omicslonda                              html  
    omicslonda_data_example                 html  
    permutationMC                           html  
    testStat                                html  
    testStatPermutation                     html  
    visualizeArea                           html  
    visualizeFeature                        html  
    visualizeFeatureSpline                  html  
    visualizeTestStatHistogram              html  
** building package indices
** installing vignettes
** testing if installed package can be loaded from temporary location
** testing if installed package can be loaded from final location
** testing if installed package keeps a record of temporary installation path
* DONE (OmicsLonDA)
Making 'packages.html' ...Warning in packageDescription(i, lib.loc = lib, fields = "Title", encoding = "UTF-8") :
  DESCRIPTION file of package 'iasva' is missing or broken
 done