Back to Build/check report for BioC 3.17: simplified long |
|
This page was generated on 2023-03-30 12:33:49 -0400 (Thu, 30 Mar 2023).
Hostname | OS | Arch (*) | R version | Installed pkgs |
---|---|---|---|---|
nebbiolo1 | Linux (Ubuntu 22.04.1 LTS) | x86_64 | R Under development (unstable) (2023-03-16 r83996) -- "Unsuffered Consequences" | 4547 |
Click on any hostname to see more info about the system (e.g. compilers) (*) as reported by 'uname -p', except on Windows and Mac OS X |
To the developers/maintainers of the OmicsLonDA package: - Allow up to 24 hours (and sometimes 48 hours) for your latest push to git@git.bioconductor.org:packages/OmicsLonDA.git to reflect on this report. See Troubleshooting Build Report for more information. - Use the following Renviron settings to reproduce errors and warnings. Note: If "R CMD check" recently failed on the Linux builder over a missing dependency, add the missing dependency to "Suggests" in your DESCRIPTION file. See the Renviron.bioc for details. |
Package 1402/2195 | Hostname | OS / Arch | INSTALL | BUILD | CHECK | BUILD BIN | ||||||||
OmicsLonDA 1.15.0 (landing page) Ahmed A. Metwally
| nebbiolo1 | Linux (Ubuntu 22.04.1 LTS) / x86_64 | ERROR | ERROR | skipped | |||||||||
Package: OmicsLonDA |
Version: 1.15.0 |
Command: /home/biocbuild/bbs-3.17-bioc/R/bin/R CMD INSTALL OmicsLonDA |
StartedAt: 2023-03-29 15:10:45 -0400 (Wed, 29 Mar 2023) |
EndedAt: 2023-03-29 15:10:59 -0400 (Wed, 29 Mar 2023) |
EllapsedTime: 14.0 seconds |
RetCode: 1 |
Status: ERROR |
############################################################################## ############################################################################## ### ### Running command: ### ### /home/biocbuild/bbs-3.17-bioc/R/bin/R CMD INSTALL OmicsLonDA ### ############################################################################## ############################################################################## * installing to library ‘/home/biocbuild/bbs-3.17-bioc/R/site-library’ * installing *source* package ‘OmicsLonDA’ ... ** using staged installation ** R ** data *** moving datasets to lazyload DB Warning: namespace ‘OmicsLonDA’ is not available and has been replaced by .GlobalEnv when processing object ‘omicslonda_data_example’ Warning: namespace ‘OmicsLonDA’ is not available and has been replaced by .GlobalEnv when processing object ‘omicslonda_data_example’ ** byte-compile and prepare package for lazy loading Error: object ‘colMeans’ is not exported by 'namespace:BiocGenerics' Execution halted ERROR: lazy loading failed for package ‘OmicsLonDA’ * removing ‘/home/biocbuild/bbs-3.17-bioc/R/site-library/OmicsLonDA’ * restoring previous ‘/home/biocbuild/bbs-3.17-bioc/R/site-library/OmicsLonDA’