Back to Multiple platform build/check report for BioC 3.17: simplified long |
|
This page was generated on 2023-03-29 11:06:27 -0400 (Wed, 29 Mar 2023).
Hostname | OS | Arch (*) | R version | Installed pkgs |
---|---|---|---|---|
nebbiolo1 | Linux (Ubuntu 22.04.1 LTS) | x86_64 | R Under development (unstable) (2023-03-16 r83996) -- "Unsuffered Consequences" | 4547 |
palomino3 | Windows Server 2022 Datacenter | x64 | R Under development (unstable) (2023-03-15 r83984 ucrt) -- "Unsuffered Consequences" | 4308 |
merida1 | macOS 10.14.6 Mojave | x86_64 | R Under development (unstable) (2023-03-16 r83985) -- "Unsuffered Consequences" | 4301 |
Click on any hostname to see more info about the system (e.g. compilers) (*) as reported by 'uname -p', except on Windows and Mac OS X |
To the developers/maintainers of the OmicsLonDA package: - Please allow up to 24 hours (and sometimes 48 hours) for your latest push to git@git.bioconductor.org:packages/OmicsLonDA.git to reflect on this report. See How and When does the builder pull? When will my changes propagate? for more information. - Make sure to use the following settings in order to reproduce any error or warning you see on this page. |
Package 1402/2195 | Hostname | OS / Arch | INSTALL | BUILD | CHECK | BUILD BIN | ||||||||
OmicsLonDA 1.15.0 (landing page) Ahmed A. Metwally
| nebbiolo1 | Linux (Ubuntu 22.04.1 LTS) / x86_64 | ERROR | ERROR | skipped | |||||||||
palomino3 | Windows Server 2022 Datacenter / x64 | ERROR | ERROR | skipped | skipped | |||||||||
merida1 | macOS 10.14.6 Mojave / x86_64 | ERROR | ERROR | skipped | skipped | |||||||||
Package: OmicsLonDA |
Version: 1.15.0 |
Command: /Library/Frameworks/R.framework/Resources/bin/R CMD INSTALL OmicsLonDA |
StartedAt: 2023-03-28 15:21:26 -0400 (Tue, 28 Mar 2023) |
EndedAt: 2023-03-28 15:22:18 -0400 (Tue, 28 Mar 2023) |
EllapsedTime: 51.8 seconds |
RetCode: 1 |
Status: ERROR |
############################################################################## ############################################################################## ### ### Running command: ### ### /Library/Frameworks/R.framework/Resources/bin/R CMD INSTALL OmicsLonDA ### ############################################################################## ############################################################################## * installing to library ‘/Library/Frameworks/R.framework/Versions/4.3/Resources/library’ * installing *source* package ‘OmicsLonDA’ ... ** using staged installation ** R ** data *** moving datasets to lazyload DB Warning: namespace ‘OmicsLonDA’ is not available and has been replaced by .GlobalEnv when processing object ‘omicslonda_data_example’ Warning: namespace ‘OmicsLonDA’ is not available and has been replaced by .GlobalEnv when processing object ‘omicslonda_data_example’ ** byte-compile and prepare package for lazy loading Error: object ‘colMeans’ is not exported by 'namespace:BiocGenerics' Execution halted ERROR: lazy loading failed for package ‘OmicsLonDA’ * removing ‘/Library/Frameworks/R.framework/Versions/4.3/Resources/library/OmicsLonDA’ * restoring previous ‘/Library/Frameworks/R.framework/Versions/4.3/Resources/library/OmicsLonDA’