Index of /checkResults/devel/bioc-LATEST/OSAT/raw-results/palomino4

[ICO]NameLast modifiedSizeDescription

[DIR]Parent Directory  -  
[TXT]install-out.txt10-Aug-2022 00:06 1.8K 
[   ]install-summary.dcf10-Aug-2022 00:06 601  
[TXT]buildsrc-out.txt10-Aug-2022 00:06 884  
[   ]buildsrc-summary.dcf10-Aug-2022 00:06 440  
[TXT]checksrc-out.txt10-Aug-2022 00:06 4.8K 
[   ]checksrc-summary.dcf10-Aug-2022 00:06 437  
[TXT]buildbin-out.txt10-Aug-2022 00:06 1.1K 
[   ]buildbin-summary.dcf10-Aug-2022 00:06 514