Index of /checkResults/devel/bioc-LATEST/OSAT/raw-results/lconway

[ICO]NameLast modifiedSizeDescription

[DIR]Parent Directory  -  
[TXT]buildbin-out.txt14-Aug-2022 00:08 1.1K 
[   ]buildbin-summary.dcf14-Aug-2022 00:08 511  
[TXT]buildsrc-out.txt14-Aug-2022 00:08 867  
[   ]buildsrc-summary.dcf14-Aug-2022 00:08 418  
[TXT]checksrc-out.txt14-Aug-2022 00:08 4.9K 
[   ]checksrc-summary.dcf14-Aug-2022 00:08 431  
[TXT]install-out.txt14-Aug-2022 00:08 1.0K 
[   ]install-summary.dcf14-Aug-2022 00:08 262