Name | Last modified | Size | Description | |
---|---|---|---|---|
Parent Directory | - | |||
buildbin-out.txt | 29-Mar-2024 00:38 | 6.4K | ||
buildbin-summary.dcf | 29-Mar-2024 00:38 | 502 | ||
buildsrc-out.txt | 29-Mar-2024 00:38 | 898 | ||
buildsrc-summary.dcf | 29-Mar-2024 00:38 | 445 | ||
checksrc-out.txt | 29-Mar-2024 00:38 | 32K | ||
checksrc-summary.dcf | 29-Mar-2024 00:38 | 440 | ||
install-out.txt | 29-Mar-2024 00:38 | 6.3K | ||
install-summary.dcf | 29-Mar-2024 00:38 | 265 | ||