Name | Last modified | Size | Description | |
---|---|---|---|---|
Parent Directory | - | |||
install-summary.dcf | 18-Jul-2024 00:40 | 262 | ||
install-out.txt | 18-Jul-2024 00:40 | 962 | ||
checksrc-summary.dcf | 18-Jul-2024 00:40 | 434 | ||
checksrc-out.txt | 18-Jul-2024 00:40 | 4.6K | ||
buildsrc-summary.dcf | 18-Jul-2024 00:40 | 440 | ||
buildsrc-out.txt | 18-Jul-2024 00:40 | 884 | ||
buildbin-summary.dcf | 18-Jul-2024 00:40 | 497 | ||
buildbin-out.txt | 18-Jul-2024 00:40 | 1.1K | ||