Name | Last modified | Size | Description | |
---|---|---|---|---|
Parent Directory | - | |||
buildbin-out.txt | 18-Jul-2024 00:42 | 1.1K | ||
buildbin-summary.dcf | 18-Jul-2024 00:42 | 511 | ||
buildsrc-out.txt | 18-Jul-2024 00:42 | 867 | ||
buildsrc-summary.dcf | 18-Jul-2024 00:42 | 418 | ||
checksrc-out.txt | 18-Jul-2024 00:42 | 4.7K | ||
checksrc-summary.dcf | 18-Jul-2024 00:42 | 431 | ||
install-out.txt | 18-Jul-2024 00:42 | 1.0K | ||
install-summary.dcf | 18-Jul-2024 00:42 | 262 | ||