Name | Last modified | Size | Description | |
---|---|---|---|---|
Parent Directory | - | |||
buildbin-summary.dcf | 12-Jun-2024 04:43 | 518 | ||
buildbin-out.txt | 12-Jun-2024 04:43 | 6.2K | ||
checksrc-summary.dcf | 12-Jun-2024 04:43 | 435 | ||
checksrc-out.txt | 12-Jun-2024 04:43 | 4.4K | ||
buildsrc-summary.dcf | 12-Jun-2024 04:43 | 421 | ||
buildsrc-out.txt | 12-Jun-2024 04:43 | 901 | ||
install-out.txt | 12-Jun-2024 04:43 | 3.4K | ||
install-summary.dcf | 12-Jun-2024 04:43 | 265 | ||