Index of /checkResults/devel/bioc-LATEST/NormalyzerDE/raw-results
Name
Last modified
Size
Description
Parent Directory
-
kjohnson1/
01-Jun-2024 08:32
-
merida1/
01-Jun-2024 08:31
-
palomino4/
01-Jun-2024 08:30
-
nebbiolo2/
01-Jun-2024 08:29
-
info.dcf
01-Jun-2024 08:28
284
kunpeng2/
16-May-2024 02:46
-