Back to Multiple platform build/check report for BioC 3.16
ABCDEFGHIJKLM[N]OPQRSTUVWXYZ

This page was generated on 2022-06-24 11:06:52 -0400 (Fri, 24 Jun 2022).

HostnameOSArch (*)R versionInstalled pkgs
nebbiolo2Linux (Ubuntu 20.04.4 LTS)x86_644.2.0 Patched (2022-06-02 r82447) -- "Vigorous Calisthenics" 4331
palomino4Windows Server 2022 Datacenterx644.2.0 Patched (2022-06-02 r82447 ucrt) -- "Vigorous Calisthenics" 4136
lconwaymacOS 12.2.1 Montereyx86_644.2.0 Patched (2022-05-29 r82424) -- "Vigorous Calisthenics" 4147
Click on any hostname to see more info about the system (e.g. compilers)      (*) as reported by 'uname -p', except on Windows and Mac OS X

BUILD results for NeighborNet on palomino4


To the developers/maintainers of the NeighborNet package:
- Please allow up to 24 hours (and sometimes 48 hours) for your latest push to git@git.bioconductor.org:packages/NeighborNet.git to
reflect on this report. See How and When does the builder pull? When will my changes propagate? for more information.
- Make sure to use the following settings in order to reproduce any error or warning you see on this page.

raw results

Package 1299/2118HostnameOS / ArchINSTALLBUILDCHECKBUILD BIN
NeighborNet 1.15.0  (landing page)
Sahar Ansari
Snapshot Date: 2022-06-23 14:00:04 -0400 (Thu, 23 Jun 2022)
git_url: https://git.bioconductor.org/packages/NeighborNet
git_branch: master
git_last_commit: bf855d1
git_last_commit_date: 2022-04-26 11:51:24 -0400 (Tue, 26 Apr 2022)
nebbiolo2Linux (Ubuntu 20.04.4 LTS) / x86_64  OK    OK    OK  UNNEEDED, same version is already published
palomino4Windows Server 2022 Datacenter / x64  OK    OK    OK    OK  UNNEEDED, same version is already published
lconwaymacOS 12.2.1 Monterey / x86_64  OK    OK    OK    OK  UNNEEDED, same version is already published

Summary

Package: NeighborNet
Version: 1.15.0
Command: chmod a+r NeighborNet -R && F:\biocbuild\bbs-3.16-bioc\R\bin\R.exe CMD build --keep-empty-dirs --no-resave-data NeighborNet
StartedAt: 2022-06-23 19:57:58 -0400 (Thu, 23 Jun 2022)
EndedAt: 2022-06-23 19:58:24 -0400 (Thu, 23 Jun 2022)
EllapsedTime: 25.5 seconds
RetCode: 0
Status:   OK  
PackageFile: NeighborNet_1.15.0.tar.gz
PackageFileSize: 3.565 MiB

Command output

##############################################################################
##############################################################################
###
### Running command:
###
###   chmod a+r NeighborNet -R && F:\biocbuild\bbs-3.16-bioc\R\bin\R.exe CMD build --keep-empty-dirs --no-resave-data NeighborNet
###
##############################################################################
##############################################################################


* checking for file 'NeighborNet/DESCRIPTION' ... OK
* preparing 'NeighborNet':
* checking DESCRIPTION meta-information ... OK
* installing the package to build vignettes
* creating vignettes ... OK
* checking for LF line-endings in source and make files and shell scripts
* checking for empty or unneeded directories
Omitted 'LazyData' from DESCRIPTION
* building 'NeighborNet_1.15.0.tar.gz'