Index of /checkResults/devel/bioc-LATEST/Nebulosa/raw-results

[ICO]NameLast modifiedSizeDescription

[DIR]Parent Directory  -  
[   ]info.dcf19-May-2022 00:08 281  
[DIR]lconway/19-May-2022 00:08 -  
[DIR]nebbiolo2/19-May-2022 00:05 -  
[DIR]palomino4/19-May-2022 00:06 -