Index of /checkResults/devel/bioc-LATEST/NanoStringQCPro/raw-results
Name
Last modified
Size
Description
Parent Directory
-
info.dcf
21-Apr-2023 01:50
281
nebbiolo2/
21-Apr-2023 01:50
-