Back to Multiple platform build/check report for BioC 3.15
ABCDEFGHIJKLM[N]OPQRSTUVWXYZ

This page was generated on 2022-01-21 11:06:19 -0500 (Fri, 21 Jan 2022).

HostnameOSArch (*)R versionInstalled pkgs
nebbiolo1Linux (Ubuntu 20.04.4 LTS)x86_64R Under development (unstable) (2022-01-05 r81451) -- "Unsuffered Consequences" 4163
riesling1Windows Server 2019 Standardx64R Under development (unstable) (2021-11-21 r81221) -- "Unsuffered Consequences" 4058
palomino3Windows Server 2022 Datacenterx64R Under development (unstable) (2021-12-21 r81400 ucrt) -- "Unsuffered Consequences" 4000
merida1macOS 10.14.6 Mojavex86_64R Under development (unstable) (2022-01-05 r81451) -- "Unsuffered Consequences" 4117
Click on any hostname to see more info about the system (e.g. compilers)      (*) as reported by 'uname -p', except on Windows and Mac OS X

INSTALL results for NanoStringQCPro on nebbiolo1


To the developers/maintainers of the NanoStringQCPro package:
- Please allow up to 24 hours (and sometimes 48 hours) for your latest push to git@git.bioconductor.org:packages/NanoStringQCPro.git to
reflect on this report. See How and When does the builder pull? When will my changes propagate? here for more information.
- Make sure to use the following settings in order to reproduce any error or warning you see on this page.

raw results

Package 1261/2075HostnameOS / ArchINSTALLBUILDCHECKBUILD BIN
NanoStringQCPro 1.27.0  (landing page)
Robert Ziman
Snapshot Date: 2022-01-20 13:55:17 -0500 (Thu, 20 Jan 2022)
git_url: https://git.bioconductor.org/packages/NanoStringQCPro
git_branch: master
git_last_commit: 456e00c
git_last_commit_date: 2021-10-26 12:20:02 -0500 (Tue, 26 Oct 2021)
nebbiolo1Linux (Ubuntu 20.04.4 LTS) / x86_64  OK    OK    OK  UNNEEDED, same version is already published
riesling1Windows Server 2019 Standard / x64  OK    OK    OK    OK  
palomino3Windows Server 2022 Datacenter / x64  OK    OK    OK    OK  NO, package depends on 'AnnotationDbi' which is not available
merida1macOS 10.14.6 Mojave / x86_64  OK    OK    OK    OK  UNNEEDED, same version is already published

Summary

Package: NanoStringQCPro
Version: 1.27.0
Command: /home/biocbuild/bbs-3.15-bioc/R/bin/R CMD INSTALL NanoStringQCPro
StartedAt: 2022-01-20 15:12:13 -0500 (Thu, 20 Jan 2022)
EndedAt: 2022-01-20 15:12:32 -0500 (Thu, 20 Jan 2022)
EllapsedTime: 18.5 seconds
RetCode: 0
Status:   OK  

Command output

##############################################################################
##############################################################################
###
### Running command:
###
###   /home/biocbuild/bbs-3.15-bioc/R/bin/R CMD INSTALL NanoStringQCPro
###
##############################################################################
##############################################################################


* installing to library ‘/home/biocbuild/bbs-3.15-bioc/R/library’
* installing *source* package ‘NanoStringQCPro’ ...
** using staged installation
** R
** data
*** moving datasets to lazyload DB
** inst
** byte-compile and prepare package for lazy loading
** help
*** installing help indices
** building package indices
** testing if installed package can be loaded from temporary location
** testing if installed package can be loaded from final location
** testing if installed package keeps a record of temporary installation path
* DONE (NanoStringQCPro)