Back to Multiple platform build/check report for BioC 3.17:   simplified   long
ABCDEFGHIJKLM[N]OPQRSTUVWXYZ

This page was generated on 2023-03-24 11:07:00 -0400 (Fri, 24 Mar 2023).

HostnameOSArch (*)R versionInstalled pkgs
nebbiolo1Linux (Ubuntu 22.04.1 LTS)x86_64R Under development (unstable) (2023-03-16 r83996) -- "Unsuffered Consequences" 4546
palomino3Windows Server 2022 Datacenterx64R Under development (unstable) (2023-03-15 r83984 ucrt) -- "Unsuffered Consequences" 4307
merida1macOS 10.14.6 Mojavex86_64R Under development (unstable) (2023-03-16 r83985) -- "Unsuffered Consequences" 4299
Click on any hostname to see more info about the system (e.g. compilers)      (*) as reported by 'uname -p', except on Windows and Mac OS X

INSTALL results for NanoStringQCPro on merida1


To the developers/maintainers of the NanoStringQCPro package:
- Please allow up to 24 hours (and sometimes 48 hours) for your latest push to git@git.bioconductor.org:packages/NanoStringQCPro.git to
reflect on this report. See How and When does the builder pull? When will my changes propagate? for more information.
- Make sure to use the following settings in order to reproduce any error or warning you see on this page.

raw results

Package 1338/2195HostnameOS / ArchINSTALLBUILDCHECKBUILD BIN
NanoStringQCPro 1.31.1  (landing page)
Robert Ziman
Snapshot Date: 2023-03-23 14:00:15 -0400 (Thu, 23 Mar 2023)
git_url: https://git.bioconductor.org/packages/NanoStringQCPro
git_branch: devel
git_last_commit: 7fe4f04
git_last_commit_date: 2023-03-14 11:46:52 -0400 (Tue, 14 Mar 2023)
nebbiolo1Linux (Ubuntu 22.04.1 LTS) / x86_64  OK    OK    ERROR  
palomino3Windows Server 2022 Datacenter / x64  OK    OK    ERROR    OK  
merida1macOS 10.14.6 Mojave / x86_64  OK    OK    ERROR    OK  

Summary

Package: NanoStringQCPro
Version: 1.31.1
Command: /Library/Frameworks/R.framework/Resources/bin/R CMD INSTALL NanoStringQCPro
StartedAt: 2023-03-23 15:26:56 -0400 (Thu, 23 Mar 2023)
EndedAt: 2023-03-23 15:28:02 -0400 (Thu, 23 Mar 2023)
EllapsedTime: 66.2 seconds
RetCode: 0
Status:   OK  

Command output

##############################################################################
##############################################################################
###
### Running command:
###
###   /Library/Frameworks/R.framework/Resources/bin/R CMD INSTALL NanoStringQCPro
###
##############################################################################
##############################################################################


* installing to library ‘/Library/Frameworks/R.framework/Versions/4.3/Resources/library’
* installing *source* package ‘NanoStringQCPro’ ...
** using staged installation
** R
** data
*** moving datasets to lazyload DB
** inst
** byte-compile and prepare package for lazy loading
** help
*** installing help indices
** building package indices
** testing if installed package can be loaded from temporary location
Warning: Package 'NanoStringQCPro' is deprecated and will be removed from
  Bioconductor version 3.18
** testing if installed package can be loaded from final location
Warning: Package 'NanoStringQCPro' is deprecated and will be removed from
  Bioconductor version 3.18
** testing if installed package keeps a record of temporary installation path
* DONE (NanoStringQCPro)