Back to Multiple platform build/check report for BioC 3.15
ABCDEFGHIJKLM[N]OPQRSTUVWXYZ

This page was generated on 2022-01-19 11:08:17 -0500 (Wed, 19 Jan 2022).

HostnameOSArch (*)R versionInstalled pkgs
nebbiolo1Linux (Ubuntu 20.04.4 LTS)x86_64R Under development (unstable) (2022-01-05 r81451) -- "Unsuffered Consequences" 4161
riesling1Windows Server 2019 Standardx64R Under development (unstable) (2021-11-21 r81221) -- "Unsuffered Consequences" 4056
palomino3Windows Server 2022 Datacenterx64R Under development (unstable) (2021-12-21 r81400 ucrt) -- "Unsuffered Consequences" 3998
merida1macOS 10.14.6 Mojavex86_64R Under development (unstable) (2022-01-05 r81451) -- "Unsuffered Consequences" 4115
Click on any hostname to see more info about the system (e.g. compilers)      (*) as reported by 'uname -p', except on Windows and Mac OS X

BUILD BIN results for NanoMethViz on riesling1


To the developers/maintainers of the NanoMethViz package:
- Please allow up to 24 hours (and sometimes 48 hours) for your latest push to git@git.bioconductor.org:packages/NanoMethViz.git to
reflect on this report. See How and When does the builder pull? When will my changes propagate? here for more information.
- Make sure to use the following settings in order to reproduce any error or warning you see on this page.

raw results

Package 1258/2074HostnameOS / ArchINSTALLBUILDCHECKBUILD BIN
NanoMethViz 2.1.2  (landing page)
Shian Su
Snapshot Date: 2022-01-18 13:55:18 -0500 (Tue, 18 Jan 2022)
git_url: https://git.bioconductor.org/packages/NanoMethViz
git_branch: master
git_last_commit: 32400e1
git_last_commit_date: 2021-12-07 01:06:18 -0500 (Tue, 07 Dec 2021)
nebbiolo1Linux (Ubuntu 20.04.4 LTS) / x86_64  OK    OK    OK  UNNEEDED, same version is already published
riesling1Windows Server 2019 Standard / x64  OK    OK    OK    OK  
palomino3Windows Server 2022 Datacenter / x64  OK    OK    OK    OK  NO, package depends on 'S4Vectors' which is not available
merida1macOS 10.14.6 Mojave / x86_64  OK    OK    OK    OK  UNNEEDED, same version is already published

Summary

Package: NanoMethViz
Version: 2.1.2
Command: rm -rf NanoMethViz.buildbin-libdir && mkdir NanoMethViz.buildbin-libdir && D:\biocbuild\bbs-3.15-bioc\R\bin\R.exe CMD INSTALL --build --library=NanoMethViz.buildbin-libdir NanoMethViz_2.1.2.tar.gz
StartedAt: 2022-01-18 21:06:06 -0500 (Tue, 18 Jan 2022)
EndedAt: 2022-01-18 21:07:15 -0500 (Tue, 18 Jan 2022)
EllapsedTime: 69.0 seconds
RetCode: 0
Status:   OK  
PackageFile: NanoMethViz_2.1.2.zip
PackageFileSize: 3.512 MiB

Command output

##############################################################################
##############################################################################
###
### Running command:
###
###   rm -rf NanoMethViz.buildbin-libdir && mkdir NanoMethViz.buildbin-libdir && D:\biocbuild\bbs-3.15-bioc\R\bin\R.exe CMD INSTALL --build --library=NanoMethViz.buildbin-libdir NanoMethViz_2.1.2.tar.gz
###
##############################################################################
##############################################################################


* installing *source* package 'NanoMethViz' ...
** using staged installation
** libs
"C:/rtools40/mingw64/bin/"g++  -std=gnu++11 -I"D:/biocbuild/bbs-3.15-bioc/R/library/zlibbioc/include" -I"D:/biocbuild/bbs-3.15-bioc/R/include" -DNDEBUG  -I'D:/biocbuild/bbs-3.15-bioc/R/library/Rcpp/include'   -I"C:/extsoft/include"     -O2 -Wall  -mfpmath=sse -msse2 -mstackrealign -fno-reorder-blocks-and-partition  -c RcppExports.cpp -o RcppExports.o
"C:/rtools40/mingw64/bin/"g++  -std=gnu++11 -I"D:/biocbuild/bbs-3.15-bioc/R/library/zlibbioc/include" -I"D:/biocbuild/bbs-3.15-bioc/R/include" -DNDEBUG  -I'D:/biocbuild/bbs-3.15-bioc/R/library/Rcpp/include'   -I"C:/extsoft/include"     -O2 -Wall  -mfpmath=sse -msse2 -mstackrealign -fno-reorder-blocks-and-partition  -c convert_methy_to_dss.cpp -o convert_methy_to_dss.o
"C:/rtools40/mingw64/bin/"g++  -std=gnu++11 -I"D:/biocbuild/bbs-3.15-bioc/R/library/zlibbioc/include" -I"D:/biocbuild/bbs-3.15-bioc/R/include" -DNDEBUG  -I'D:/biocbuild/bbs-3.15-bioc/R/library/Rcpp/include'   -I"C:/extsoft/include"     -O2 -Wall  -mfpmath=sse -msse2 -mstackrealign -fno-reorder-blocks-and-partition  -c utils.cpp -o utils.o
C:/rtools40/mingw64/bin/g++ -shared -s -static-libgcc -o NanoMethViz.dll tmp.def RcppExports.o convert_methy_to_dss.o utils.o -LD:/biocbuild/bbs-3.15-bioc/R/library/zlibbioc/libs/x64 -lzlib1bioc -LC:/extsoft/lib/x64 -LC:/extsoft/lib -LD:/biocbuild/bbs-3.15-bioc/R/bin/x64 -lR
installing to D:/biocbuild/bbs-3.15-bioc/meat/NanoMethViz.buildbin-libdir/00LOCK-NanoMethViz/00new/NanoMethViz/libs/x64
** R
** inst
** byte-compile and prepare package for lazy loading
** help
*** installing help indices
  converting help for package 'NanoMethViz'
    finding HTML links ... done
    NanoMethResult-class                    html  
    NanoMethViz-package                     html  
    bsseq_to_edger                          html  
    bsseq_to_log_methy_ratio                html  
    convert_methy_format                    html  
    create_tabix_file                       html  
    exons-set                               html  
    exons                                   html  
    exons_to_genes                          html  
    get_example_exons_mus_musculus          html  
    get_exons_homo_sapiens                  html  
    get_exons_mus_musculus                  html  
    load_example_nanomethresult             html  
    methy-set                               html  
    methy                                   html  
    methy_col_names                         html  
    methy_to_bsseq                          html  
    plot_agg_regions                        html  
    plot_gene                               html  
    plot_gene_heatmap                       html  
    plot_grange                             html  
    plot_grange_heatmap                     html  
    plot_mds                                html  
    plot_pca                                html  
    plot_region                             html  
    plot_region_heatmap                     html  
    query_exons                             html  
    query_methy                             html  
    raw_methy_to_tabix                      html  
    samples-set                             html  
    samples                                 html  
    sort_methy_file                         html  
** building package indices
** installing vignettes
** testing if installed package can be loaded from temporary location
** testing if installed package can be loaded from final location
** testing if installed package keeps a record of temporary installation path
* MD5 sums
packaged installation of 'NanoMethViz' as NanoMethViz_2.1.2.zip
* DONE (NanoMethViz)