![]() | Name | Last modified | Size | Description |
---|---|---|---|---|
![]() | Parent Directory | - | ||
![]() | install-summary.dcf | 29-Sep-2023 00:38 | 275 | |
![]() | checksrc-summary.dcf | 29-Sep-2023 00:38 | 461 | |
![]() | buildsrc-summary.dcf | 29-Sep-2023 00:38 | 467 | |
![]() | buildbin-summary.dcf | 29-Sep-2023 00:38 | 536 | |
![]() | buildsrc-out.txt | 29-Sep-2023 00:38 | 890 | |
![]() | install-out.txt | 29-Sep-2023 00:38 | 2.7K | |
![]() | buildbin-out.txt | 29-Sep-2023 00:38 | 2.9K | |
![]() | checksrc-out.txt | 29-Sep-2023 00:38 | 4.5K | |