Index of /checkResults/devel/bioc-LATEST/NanoMethViz/raw-results/nebbiolo2

[ICO]NameLast modifiedSizeDescription

[DIR]Parent Directory  -  
[TXT]buildsrc-out.txt02-Jul-2022 00:05 851  
[   ]buildsrc-summary.dcf02-Jul-2022 00:05 428  
[TXT]checksrc-out.txt02-Jul-2022 00:05 4.7K 
[   ]checksrc-summary.dcf02-Jul-2022 00:05 438  
[TXT]install-out.txt02-Jul-2022 00:05 1.9K 
[   ]install-summary.dcf02-Jul-2022 00:05 266