Name | Last modified | Size | Description | |
---|---|---|---|---|
Parent Directory | - | |||
install-out.txt | 02-May-2024 00:40 | 3.0K | ||
install-summary.dcf | 02-May-2024 00:40 | 278 | ||
buildsrc-out.txt | 02-May-2024 00:40 | 862 | ||
buildsrc-summary.dcf | 02-May-2024 00:40 | 440 | ||
checksrc-out.txt | 02-May-2024 00:40 | 4.7K | ||
checksrc-summary.dcf | 02-May-2024 00:40 | 461 | ||
buildbin-out.txt | 02-May-2024 00:40 | 5.3K | ||
buildbin-summary.dcf | 02-May-2024 00:40 | 555 | ||