Index of /checkResults/devel/bioc-LATEST/NanoMethViz/raw-results
Name
Last modified
Size
Description
Parent Directory
-
nebbiolo2/
30-May-2023 00:05
-
palomino4/
30-May-2023 00:06
-
info.dcf
30-May-2023 00:07
263
lconway/
30-May-2023 00:07
-