Index of /checkResults/devel/bioc-LATEST/NTW/raw-results/palomino3

[ICO]NameLast modifiedSizeDescription

[DIR]Parent Directory  -  
[TXT]buildbin-out.txt01-Apr-2023 00:03 1.1K 
[   ]buildbin-summary.dcf01-Apr-2023 00:03 490  
[TXT]buildsrc-out.txt02-Apr-2023 00:05 879  
[   ]buildsrc-summary.dcf02-Apr-2023 00:05 436  
[TXT]checksrc-out.txt02-Apr-2023 00:05 3.7K 
[   ]checksrc-summary.dcf02-Apr-2023 00:05 436  
[TXT]install-out.txt02-Apr-2023 00:05 1.0K 
[   ]install-summary.dcf02-Apr-2023 00:05 260