![]() | Name | Last modified | Size | Description |
---|---|---|---|---|
![]() | Parent Directory | - | ||
![]() | buildbin-out.txt | 02-Apr-2023 00:06 | 1.2K | |
![]() | buildbin-summary.dcf | 02-Apr-2023 00:06 | 505 | |
![]() | buildsrc-out.txt | 02-Apr-2023 00:06 | 863 | |
![]() | buildsrc-summary.dcf | 02-Apr-2023 00:06 | 415 | |
![]() | checksrc-out.txt | 02-Apr-2023 00:06 | 3.8K | |
![]() | checksrc-summary.dcf | 02-Apr-2023 00:06 | 433 | |
![]() | install-out.txt | 02-Apr-2023 00:06 | 1.0K | |
![]() | install-summary.dcf | 02-Apr-2023 00:06 | 261 | |