Back to Multiple platform build/check report for BioC 3.14
ABCDEFGHIJKLM[N]OPQRSTUVWXYZ

This page was generated on 2021-10-20 12:05:17 -0400 (Wed, 20 Oct 2021).

INSTALL results for NBSplice on riesling1

To the developers/maintainers of the NBSplice package:
- Please allow up to 24 hours (and sometimes 48 hours) for your latest push to git@git.bioconductor.org:packages/NBSplice.git to
reflect on this report. See How and When does the builder pull? When will my changes propagate? here for more information.
- Make sure to use the following settings in order to reproduce any error or warning you see on this page.

raw results

Package 1266/2072HostnameOS / ArchINSTALLBUILDCHECKBUILD BIN
NBSplice 1.11.2  (landing page)
Gabriela Merino
Snapshot Date: 2021-10-19 14:50:04 -0400 (Tue, 19 Oct 2021)
git_url: https://git.bioconductor.org/packages/NBSplice
git_branch: master
git_last_commit: ba4d4ee
git_last_commit_date: 2021-09-03 10:24:59 -0400 (Fri, 03 Sep 2021)
nebbiolo2Linux (Ubuntu 20.04.2 LTS) / x86_64  OK    OK    OK  UNNEEDED, same version is already published
riesling1Windows Server 2019 Standard / x64  OK    OK    OK    OK  UNNEEDED, same version is already published
merida1macOS 10.14.6 Mojave / x86_64  OK    OK    WARNINGS    NA  

Summary

Package: NBSplice
Version: 1.11.2
Command: C:\cygwin\bin\curl.exe -O http://155.52.207.166/BBS/3.14/bioc/src/contrib/NBSplice_1.11.2.tar.gz && rm -rf NBSplice.buildbin-libdir && mkdir NBSplice.buildbin-libdir && D:\biocbuild\bbs-3.14-bioc\R\bin\R.exe CMD INSTALL --merge-multiarch --build --library=NBSplice.buildbin-libdir NBSplice_1.11.2.tar.gz && D:\biocbuild\bbs-3.14-bioc\R\bin\R.exe CMD INSTALL NBSplice_1.11.2.zip && rm NBSplice_1.11.2.tar.gz NBSplice_1.11.2.zip
StartedAt: 2021-10-19 18:32:27 -0400 (Tue, 19 Oct 2021)
EndedAt: 2021-10-19 18:35:34 -0400 (Tue, 19 Oct 2021)
EllapsedTime: 186.8 seconds
RetCode: 0
Status:   OK  

Command output

##############################################################################
##############################################################################
###
### Running command:
###
###   C:\cygwin\bin\curl.exe -O http://155.52.207.166/BBS/3.14/bioc/src/contrib/NBSplice_1.11.2.tar.gz && rm -rf NBSplice.buildbin-libdir && mkdir NBSplice.buildbin-libdir && D:\biocbuild\bbs-3.14-bioc\R\bin\R.exe CMD INSTALL --merge-multiarch --build --library=NBSplice.buildbin-libdir NBSplice_1.11.2.tar.gz && D:\biocbuild\bbs-3.14-bioc\R\bin\R.exe CMD INSTALL NBSplice_1.11.2.zip && rm NBSplice_1.11.2.tar.gz NBSplice_1.11.2.zip
###
##############################################################################
##############################################################################


  % Total    % Received % Xferd  Average Speed   Time    Time     Time  Current
                                 Dload  Upload   Total   Spent    Left  Speed

  0     0    0     0    0     0      0      0 --:--:-- --:--:-- --:--:--     0
100  917k  100  917k    0     0  2732k      0 --:--:-- --:--:-- --:--:-- 2732k

install for i386

* installing *source* package 'NBSplice' ...
** using staged installation
** R
** data
** inst
** byte-compile and prepare package for lazy loading
** help
*** installing help indices
  converting help for package 'NBSplice'
    finding HTML links ... done
    IsoDataSet-NBTest                       html  
    IsoDataSet-buildLowExpIdx               html  
    IsoDataSet-class                        html  
    IsoDataSet-constructor                  html  
    IsoDataSet-core                         html  
    IsoDataSet-getters                      html  
    IsoDataSet-initialize                   html  
    IsoDataSet-print                        html  
    IsoDataSet-show                         html  
    NBSplice-package                        html  
    NBSpliceRes-GetDSGenes                  html  
    NBSpliceRes-GetDSResults                html  
    NBSpliceRes-GetGeneResults              html  
    NBSpliceRes-class                       html  
    NBSpliceRes-constructor                 html  
    NBSpliceRes-getters                     html  
    NBSpliceRes-initialize                  html  
    NBSpliceRes-plotGeneResults             html  
    NBSpliceRes-plotRatiosDisp              html  
    NBSpliceRes-plotVolcano                 html  
    NBSpliceRes-print                       html  
    NBSpliceRes-show                        html  
    designMatrix                            html  
    geneIso                                 html  
    isoCountsData                           html  
    myDSResults                             html  
    myIsoDataSet                            html  
    totalGeneCounts                         html  
** building package indices
** installing vignettes
** testing if installed package can be loaded from temporary location
** testing if installed package can be loaded from final location
** testing if installed package keeps a record of temporary installation path

install for x64

* installing *source* package 'NBSplice' ...
** testing if installed package can be loaded
* MD5 sums
packaged installation of 'NBSplice' as NBSplice_1.11.2.zip
* DONE (NBSplice)
* installing to library 'D:/biocbuild/bbs-3.14-bioc/R/library'
package 'NBSplice' successfully unpacked and MD5 sums checked