Back to Multiple platform build/check report for BioC 3.14
ABCDEFGHIJKLM[N]OPQRSTUVWXYZ

This page was generated on 2021-10-20 12:05:17 -0400 (Wed, 20 Oct 2021).

BUILD results for NBSplice on riesling1

To the developers/maintainers of the NBSplice package:
- Please allow up to 24 hours (and sometimes 48 hours) for your latest push to git@git.bioconductor.org:packages/NBSplice.git to
reflect on this report. See How and When does the builder pull? When will my changes propagate? here for more information.
- Make sure to use the following settings in order to reproduce any error or warning you see on this page.

raw results

Package 1266/2072HostnameOS / ArchINSTALLBUILDCHECKBUILD BIN
NBSplice 1.11.2  (landing page)
Gabriela Merino
Snapshot Date: 2021-10-19 14:50:04 -0400 (Tue, 19 Oct 2021)
git_url: https://git.bioconductor.org/packages/NBSplice
git_branch: master
git_last_commit: ba4d4ee
git_last_commit_date: 2021-09-03 10:24:59 -0400 (Fri, 03 Sep 2021)
nebbiolo2Linux (Ubuntu 20.04.2 LTS) / x86_64  OK    OK    OK  UNNEEDED, same version is already published
riesling1Windows Server 2019 Standard / x64  OK    OK    OK    OK  UNNEEDED, same version is already published
merida1macOS 10.14.6 Mojave / x86_64  OK    OK    WARNINGS    NA  

Summary

Package: NBSplice
Version: 1.11.2
Command: chmod a+r NBSplice -R && D:\biocbuild\bbs-3.14-bioc\R\bin\R.exe CMD build --keep-empty-dirs --no-resave-data NBSplice
StartedAt: 2021-10-19 22:20:45 -0400 (Tue, 19 Oct 2021)
EndedAt: 2021-10-19 22:24:41 -0400 (Tue, 19 Oct 2021)
EllapsedTime: 236.3 seconds
RetCode: 0
Status:   OK  
PackageFile: NBSplice_1.11.2.tar.gz
PackageFileSize: 544.5 KiB

Command output

##############################################################################
##############################################################################
###
### Running command:
###
###   chmod a+r NBSplice -R && D:\biocbuild\bbs-3.14-bioc\R\bin\R.exe CMD build --keep-empty-dirs --no-resave-data NBSplice
###
##############################################################################
##############################################################################


* checking for file 'NBSplice/DESCRIPTION' ... OK
* preparing 'NBSplice':
* checking DESCRIPTION meta-information ... OK
* installing the package to build vignettes
* creating vignettes ... OK
* checking for LF line-endings in source and make files and shell scripts
* checking for empty or unneeded directories
* looking to see if a 'data/datalist' file should be added
* building 'NBSplice_1.11.2.tar.gz'