Back to Multiple platform build/check report for BioC 3.17:   simplified   long
ABCDEFGHIJKLM[N]OPQRSTUVWXYZ

This page was generated on 2023-04-01 11:04:52 -0400 (Sat, 01 Apr 2023).

HostnameOSArch (*)R versionInstalled pkgs
nebbiolo1Linux (Ubuntu 22.04.1 LTS)x86_64R Under development (unstable) (2023-03-16 r83996) -- "Unsuffered Consequences" 4551
palomino3Windows Server 2022 Datacenterx64R Under development (unstable) (2023-03-15 r83984 ucrt) -- "Unsuffered Consequences" 4312
merida1macOS 10.14.6 Mojavex86_64R Under development (unstable) (2023-03-16 r83985) -- "Unsuffered Consequences" 4309
Click on any hostname to see more info about the system (e.g. compilers)      (*) as reported by 'uname -p', except on Windows and Mac OS X

BUILD results for NBSplice on nebbiolo1


To the developers/maintainers of the NBSplice package:
- Allow up to 24 hours (and sometimes 48 hours) for your latest push to git@git.bioconductor.org:packages/NBSplice.git to reflect on this report. See Troubleshooting Build Report for more information.

- Use the following Renviron settings to reproduce errors and warnings.

Note: If "R CMD check" recently failed on the Linux builder over a missing dependency, add the missing dependency to "Suggests" in your DESCRIPTION file. See the Renviron.bioc for details.

raw results

Package 1344/2199HostnameOS / ArchINSTALLBUILDCHECKBUILD BIN
NBSplice 1.17.1  (landing page)
Gabriela Merino
Snapshot Date: 2023-03-31 14:00:12 -0400 (Fri, 31 Mar 2023)
git_url: https://git.bioconductor.org/packages/NBSplice
git_branch: devel
git_last_commit: f41aa5a
git_last_commit_date: 2023-03-30 12:47:55 -0400 (Thu, 30 Mar 2023)
nebbiolo1Linux (Ubuntu 22.04.1 LTS) / x86_64  ERROR    ERROR  skipped
palomino3Windows Server 2022 Datacenter / x64  ERROR    ERROR  skippedskipped
merida1macOS 10.14.6 Mojave / x86_64  ERROR    ERROR  skippedskipped

Summary

Package: NBSplice
Version: 1.17.1
Command: /home/biocbuild/bbs-3.17-bioc/R/bin/R CMD build --keep-empty-dirs --no-resave-data NBSplice
StartedAt: 2023-03-31 17:18:14 -0400 (Fri, 31 Mar 2023)
EndedAt: 2023-03-31 17:18:15 -0400 (Fri, 31 Mar 2023)
EllapsedTime: 1.0 seconds
RetCode: 1
Status:   ERROR  
PackageFile: None
PackageFileSize: NA

Command output

##############################################################################
##############################################################################
###
### Running command:
###
###   /home/biocbuild/bbs-3.17-bioc/R/bin/R CMD build --keep-empty-dirs --no-resave-data NBSplice
###
##############################################################################
##############################################################################


* checking for file ‘NBSplice/DESCRIPTION’ ... OK
* preparing ‘NBSplice’:
* checking DESCRIPTION meta-information ... OK
* installing the package to build vignettes
      -----------------------------------
ERROR: dependency ‘mppa’ is not available for package ‘NBSplice’
* removing ‘/tmp/Rtmpb8Zzaz/Rinst1e910c4d027c7/NBSplice’
      -----------------------------------
ERROR: package installation failed