Back to Multiple platform build/check report for BioC 3.14
ABCDEFGHIJKLM[N]OPQRSTUVWXYZ

This page was generated on 2021-10-23 14:07:09 -0400 (Sat, 23 Oct 2021).

BUILD BIN results for NBSplice on merida1

To the developers/maintainers of the NBSplice package:
- Please allow up to 24 hours (and sometimes 48 hours) for your latest push to git@git.bioconductor.org:packages/NBSplice.git to
reflect on this report. See How and When does the builder pull? When will my changes propagate? here for more information.
- Make sure to use the following settings in order to reproduce any error or warning you see on this page.

raw results

Package 1271/2083HostnameOS / ArchINSTALLBUILDCHECKBUILD BIN
NBSplice 1.11.2  (landing page)
Gabriela Merino
Snapshot Date: 2021-10-22 14:50:11 -0400 (Fri, 22 Oct 2021)
git_url: https://git.bioconductor.org/packages/NBSplice
git_branch: master
git_last_commit: ba4d4ee
git_last_commit_date: 2021-09-03 10:24:59 -0400 (Fri, 03 Sep 2021)
nebbiolo2Linux (Ubuntu 20.04.2 LTS) / x86_64  OK    OK    OK  UNNEEDED, same version is already published
riesling1Windows Server 2019 Standard / x64  OK    OK    OK    OK  UNNEEDED, same version is already published
merida1macOS 10.14.6 Mojave / x86_64  OK    OK    OK    OK  UNNEEDED, same version is already published

Summary

Package: NBSplice
Version: 1.11.2
Command: rm -rf NBSplice.buildbin-libdir && mkdir NBSplice.buildbin-libdir && /Users/biocbuild/BBS/utils/build-universal.sh NBSplice_1.11.2.tar.gz /Library/Frameworks/R.framework/Resources/bin/R NBSplice.buildbin-libdir
StartedAt: 2021-10-23 12:41:53 -0400 (Sat, 23 Oct 2021)
EndedAt: 2021-10-23 12:42:38 -0400 (Sat, 23 Oct 2021)
EllapsedTime: 45.6 seconds
RetCode: 0
Status:   OK  
PackageFile: NBSplice_1.11.2.tgz
PackageFileSize: 995.5 KiB

Command output

##############################################################################
##############################################################################
###
### Running command:
###
###   rm -rf NBSplice.buildbin-libdir && mkdir NBSplice.buildbin-libdir && /Users/biocbuild/BBS/utils/build-universal.sh NBSplice_1.11.2.tar.gz /Library/Frameworks/R.framework/Resources/bin/R NBSplice.buildbin-libdir
###
##############################################################################
##############################################################################


>>>>>>> 
>>>>>>> INSTALLATION WITH 'R CMD INSTALL --preclean --no-multiarch --library=NBSplice.buildbin-libdir NBSplice_1.11.2.tar.gz'
>>>>>>> 

* installing *source* package ‘NBSplice’ ...
** using staged installation
** R
** data
** inst
** byte-compile and prepare package for lazy loading
** help
*** installing help indices
** building package indices
** installing vignettes
** testing if installed package can be loaded from temporary location
** testing if installed package can be loaded from final location
** testing if installed package keeps a record of temporary installation path
* DONE (NBSplice)