Index of /checkResults/devel/bioc-LATEST/MutationalPatterns/raw-results/palomino4

[ICO]NameLast modifiedSizeDescription

[DIR]Parent Directory  -  
[   ]install-summary.dcf07-Aug-2022 00:06 721  
[TXT]install-out.txt07-Aug-2022 00:06 1.9K 
[   ]checksrc-summary.dcf07-Aug-2022 00:06 492  
[TXT]checksrc-out.txt07-Aug-2022 00:06 3.9K 
[   ]buildsrc-summary.dcf07-Aug-2022 00:06 495  
[TXT]buildsrc-out.txt07-Aug-2022 00:06 930  
[   ]buildbin-summary.dcf06-Aug-2022 00:06 596  
[TXT]buildbin-out.txt06-Aug-2022 00:06 1.2K