Index of /checkResults/devel/bioc-LATEST/MutationalPatterns/raw-results/palomino4

[ICO]NameLast modifiedSizeDescription

[DIR]Parent Directory  -  
[TXT]buildbin-out.txt01-Jul-2022 00:06 1.2K 
[   ]buildbin-summary.dcf01-Jul-2022 00:06 596  
[TXT]buildsrc-out.txt01-Jul-2022 00:06 930  
[   ]buildsrc-summary.dcf01-Jul-2022 00:06 495  
[TXT]checksrc-out.txt01-Jul-2022 00:06 3.9K 
[   ]checksrc-summary.dcf01-Jul-2022 00:06 492  
[TXT]install-out.txt01-Jul-2022 00:06 2.0K 
[   ]install-summary.dcf01-Jul-2022 00:06 721