Index of /checkResults/devel/bioc-LATEST/MutationalPatterns/raw-results/palomino3
Name
Last modified
Size
Description
Parent Directory
-
buildsrc-out.txt
29-Mar-2024 00:38
1.2K
buildsrc-summary.dcf
29-Mar-2024 00:38
402
install-out.txt
29-Mar-2024 00:38
1.2K
install-summary.dcf
29-Mar-2024 00:38
290