Back to Multiple platform build/check report for BioC 3.17: simplified long |
|
This page was generated on 2023-03-20 11:05:13 -0400 (Mon, 20 Mar 2023).
Hostname | OS | Arch (*) | R version | Installed pkgs |
---|---|---|---|---|
nebbiolo1 | Linux (Ubuntu 22.04.1 LTS) | x86_64 | R Under development (unstable) (2023-03-16 r83996) -- "Unsuffered Consequences" | 4297 |
palomino3 | Windows Server 2022 Datacenter | x64 | R Under development (unstable) (2023-03-15 r83984 ucrt) -- "Unsuffered Consequences" | 4286 |
merida1 | macOS 10.14.6 Mojave | x86_64 | R Under development (unstable) (2023-03-16 r83985) -- "Unsuffered Consequences" | 4150 |
Click on any hostname to see more info about the system (e.g. compilers) (*) as reported by 'uname -p', except on Windows and Mac OS X |
To the developers/maintainers of the MutationalPatterns package: - Please allow up to 24 hours (and sometimes 48 hours) for your latest push to git@git.bioconductor.org:packages/MutationalPatterns.git to reflect on this report. See How and When does the builder pull? When will my changes propagate? for more information. - Make sure to use the following settings in order to reproduce any error or warning you see on this page. |
Package 1322/2189 | Hostname | OS / Arch | INSTALL | BUILD | CHECK | BUILD BIN | ||||||||
MutationalPatterns 3.9.1 (landing page) Mark van Roosmalen
| nebbiolo1 | Linux (Ubuntu 22.04.1 LTS) / x86_64 | OK | OK | OK | ![]() | ||||||||
palomino3 | Windows Server 2022 Datacenter / x64 | OK | OK | OK | OK | ![]() | ||||||||
merida1 | macOS 10.14.6 Mojave / x86_64 | OK | OK | OK | OK | ![]() | ||||||||
Package: MutationalPatterns |
Version: 3.9.1 |
Command: /home/biocbuild/bbs-3.17-bioc/R/bin/R CMD check --install=check:MutationalPatterns.install-out.txt --library=/home/biocbuild/bbs-3.17-bioc/R/site-library --timings MutationalPatterns_3.9.1.tar.gz |
StartedAt: 2023-03-19 22:03:47 -0400 (Sun, 19 Mar 2023) |
EndedAt: 2023-03-19 22:27:28 -0400 (Sun, 19 Mar 2023) |
EllapsedTime: 1421.8 seconds |
RetCode: 0 |
Status: OK |
CheckDir: MutationalPatterns.Rcheck |
Warnings: 0 |
############################################################################## ############################################################################## ### ### Running command: ### ### /home/biocbuild/bbs-3.17-bioc/R/bin/R CMD check --install=check:MutationalPatterns.install-out.txt --library=/home/biocbuild/bbs-3.17-bioc/R/site-library --timings MutationalPatterns_3.9.1.tar.gz ### ############################################################################## ############################################################################## * using log directory ‘/home/biocbuild/bbs-3.17-bioc/meat/MutationalPatterns.Rcheck’ * using R Under development (unstable) (2023-03-16 r83996) * using platform: x86_64-pc-linux-gnu (64-bit) * R was compiled by gcc (Ubuntu 11.3.0-1ubuntu1~22.04) 11.3.0 GNU Fortran (Ubuntu 11.3.0-1ubuntu1~22.04) 11.3.0 * running under: Ubuntu 22.04.2 LTS * using session charset: UTF-8 * checking for file ‘MutationalPatterns/DESCRIPTION’ ... OK * checking extension type ... Package * this is package ‘MutationalPatterns’ version ‘3.9.1’ * package encoding: UTF-8 * checking package namespace information ... OK * checking package dependencies ... OK * checking if this is a source package ... OK * checking if there is a namespace ... OK * checking for hidden files and directories ... OK * checking for portable file names ... OK * checking for sufficient/correct file permissions ... OK * checking whether package ‘MutationalPatterns’ can be installed ... OK * checking installed package size ... OK * checking package directory ... OK * checking ‘build’ directory ... OK * checking DESCRIPTION meta-information ... OK * checking top-level files ... OK * checking for left-over files ... OK * checking index information ... OK * checking package subdirectories ... OK * checking R files for non-ASCII characters ... OK * checking R files for syntax errors ... OK * checking whether the package can be loaded ... OK * checking whether the package can be loaded with stated dependencies ... OK * checking whether the package can be unloaded cleanly ... OK * checking whether the namespace can be loaded with stated dependencies ... OK * checking whether the namespace can be unloaded cleanly ... OK * checking loading without being on the library search path ... OK * checking dependencies in R code ... OK * checking S3 generic/method consistency ... OK * checking replacement functions ... OK * checking foreign function calls ... OK * checking R code for possible problems ... OK * checking Rd files ... OK * checking Rd metadata ... OK * checking Rd cross-references ... OK * checking for missing documentation entries ... OK * checking for code/documentation mismatches ... OK * checking Rd \usage sections ... OK * checking Rd contents ... OK * checking for unstated dependencies in examples ... OK * checking files in ‘vignettes’ ... OK * checking examples ... OK Examples with CPU (user + system) or elapsed time > 5s user system elapsed context_potential_damage_analysis 34.374 0.761 35.136 read_vcfs_as_granges 21.979 0.736 24.845 plot_lesion_segregation 14.024 0.116 14.139 get_mut_type 12.905 0.047 12.954 genomic_distribution 10.400 0.220 10.624 calculate_lesion_segregation 10.169 0.363 10.534 bin_mutation_density 9.102 0.595 9.699 plot_compare_indels 8.970 0.152 9.123 plot_indel_contexts 8.010 0.060 8.070 get_indel_context 7.050 0.924 7.975 plot_river 5.673 0.020 5.692 plot_spectrum_region 5.531 0.136 5.669 plot_profile_heatmap 5.276 0.052 5.328 plot_spectrum 5.052 0.268 5.322 fit_to_signatures_bootstrapped 5.134 0.016 5.150 split_muts_region 4.830 0.284 5.114 * checking for unstated dependencies in ‘tests’ ... OK * checking tests ... Running ‘testthat.R’ OK * checking for unstated dependencies in vignettes ... OK * checking package vignettes in ‘inst/doc’ ... OK * checking running R code from vignettes ... ‘Introduction_to_MutationalPatterns.Rmd’ using ‘UTF-8’... OK NONE * checking re-building of vignette outputs ... OK * checking PDF version of manual ... OK * DONE Status: OK
MutationalPatterns.Rcheck/00install.out
############################################################################## ############################################################################## ### ### Running command: ### ### /home/biocbuild/bbs-3.17-bioc/R/bin/R CMD INSTALL MutationalPatterns ### ############################################################################## ############################################################################## * installing to library ‘/home/biocbuild/bbs-3.17-bioc/R/site-library’ * installing *source* package ‘MutationalPatterns’ ... ** using staged installation ** R ** inst ** byte-compile and prepare package for lazy loading ** help *** installing help indices ** building package indices ** installing vignettes ** testing if installed package can be loaded from temporary location ** testing if installed package can be loaded from final location ** testing if installed package keeps a record of temporary installation path * DONE (MutationalPatterns)
MutationalPatterns.Rcheck/tests/testthat.Rout
R Under development (unstable) (2023-03-16 r83996) -- "Unsuffered Consequences" Copyright (C) 2023 The R Foundation for Statistical Computing Platform: x86_64-pc-linux-gnu (64-bit) R is free software and comes with ABSOLUTELY NO WARRANTY. You are welcome to redistribute it under certain conditions. Type 'license()' or 'licence()' for distribution details. R is a collaborative project with many contributors. Type 'contributors()' for more information and 'citation()' on how to cite R or R packages in publications. Type 'demo()' for some demos, 'help()' for on-line help, or 'help.start()' for an HTML browser interface to help. Type 'q()' to quit R. > library(testthat) > library(MutationalPatterns) Loading required package: GenomicRanges Loading required package: stats4 Loading required package: BiocGenerics Attaching package: 'BiocGenerics' The following objects are masked from 'package:stats': IQR, mad, sd, var, xtabs The following objects are masked from 'package:base': Filter, Find, Map, Position, Reduce, anyDuplicated, aperm, append, as.data.frame, basename, cbind, colnames, dirname, do.call, duplicated, eval, evalq, get, grep, grepl, intersect, is.unsorted, lapply, mapply, match, mget, order, paste, pmax, pmax.int, pmin, pmin.int, rank, rbind, rownames, sapply, setdiff, sort, table, tapply, union, unique, unsplit, which.max, which.min Loading required package: S4Vectors Attaching package: 'S4Vectors' The following objects are masked from 'package:base': I, expand.grid, unname Loading required package: IRanges Loading required package: GenomeInfoDb Loading required package: NMF Loading required package: registry Loading required package: rngtools Loading required package: cluster NMF - BioConductor layer [OK] | Shared memory capabilities [NO: synchronicity] | Cores 71/72 To enable shared memory capabilities, try: install.extras(' NMF ') Attaching package: 'NMF' The following object is masked from 'package:S4Vectors': nrun The following object is masked from 'package:testthat': compare > > test_check("MutationalPatterns") [ FAIL 0 | WARN 12 | SKIP 0 | PASS 474 ] [ FAIL 0 | WARN 12 | SKIP 0 | PASS 474 ] > > proc.time() user system elapsed 223.861 16.313 245.628
MutationalPatterns.Rcheck/MutationalPatterns-Ex.timings
name | user | system | elapsed | |
bin_mutation_density | 9.102 | 0.595 | 9.699 | |
binomial_test | 0.061 | 0.001 | 0.061 | |
calculate_lesion_segregation | 10.169 | 0.363 | 10.534 | |
cluster_signatures | 0.040 | 0.004 | 0.044 | |
context_potential_damage_analysis | 34.374 | 0.761 | 35.136 | |
convert_sigs_to_ref | 0.036 | 0.004 | 0.041 | |
cos_sim | 0.001 | 0.000 | 0.001 | |
cos_sim_matrix | 0.015 | 0.008 | 0.023 | |
count_dbs_contexts | 0.098 | 0.004 | 0.102 | |
count_indel_contexts | 0.125 | 0.012 | 0.137 | |
count_mbs_contexts | 0.101 | 0.004 | 0.105 | |
determine_regional_similarity | 3.092 | 0.496 | 3.587 | |
enrichment_depletion_test | 1.078 | 0.004 | 1.082 | |
extract_signatures | 0.002 | 0.000 | 0.002 | |
fit_to_signatures | 0.089 | 0.008 | 0.098 | |
fit_to_signatures_bootstrapped | 5.134 | 0.016 | 5.150 | |
fit_to_signatures_strict | 2.978 | 0.016 | 2.993 | |
genomic_distribution | 10.400 | 0.220 | 10.624 | |
get_dbs_context | 0.320 | 0.003 | 0.325 | |
get_indel_context | 7.050 | 0.924 | 7.975 | |
get_known_signatures | 0.256 | 0.462 | 0.720 | |
get_mut_type | 12.905 | 0.047 | 12.954 | |
lengthen_mut_matrix | 0.003 | 0.015 | 0.018 | |
merge_signatures | 1.121 | 0.121 | 1.241 | |
mut_context | 1.150 | 0.199 | 1.349 | |
mut_matrix | 2.062 | 0.263 | 2.326 | |
mut_matrix_stranded | 4.363 | 0.400 | 4.763 | |
mut_strand | 1.151 | 0.031 | 1.183 | |
mut_type | 0.026 | 0.003 | 0.030 | |
mut_type_occurrences | 0.954 | 0.111 | 1.067 | |
mutations_from_vcf | 0.023 | 0.004 | 0.027 | |
plot_192_profile | 3.051 | 0.016 | 3.067 | |
plot_96_profile | 2.543 | 0.011 | 2.555 | |
plot_bootstrapped_contribution | 2.070 | 0.007 | 2.078 | |
plot_compare_dbs | 4.900 | 0.008 | 4.908 | |
plot_compare_indels | 8.970 | 0.152 | 9.123 | |
plot_compare_mbs | 0.899 | 0.008 | 0.907 | |
plot_compare_profiles | 1.828 | 0.008 | 1.837 | |
plot_contribution | 2.558 | 0.008 | 2.566 | |
plot_contribution_heatmap | 1.566 | 0.028 | 1.594 | |
plot_correlation_bootstrap | 0.524 | 0.000 | 0.524 | |
plot_cosine_heatmap | 1.861 | 0.024 | 1.885 | |
plot_dbs_contexts | 3.476 | 0.004 | 3.481 | |
plot_enrichment_depletion | 4.016 | 0.040 | 4.056 | |
plot_indel_contexts | 8.01 | 0.06 | 8.07 | |
plot_lesion_segregation | 14.024 | 0.116 | 14.139 | |
plot_main_dbs_contexts | 0.566 | 0.008 | 0.574 | |
plot_main_indel_contexts | 0.587 | 0.000 | 0.588 | |
plot_mbs_contexts | 0.479 | 0.000 | 0.479 | |
plot_original_vs_reconstructed | 0.490 | 0.000 | 0.489 | |
plot_profile_heatmap | 5.276 | 0.052 | 5.328 | |
plot_profile_region | 1.101 | 0.004 | 1.105 | |
plot_rainfall | 1.935 | 0.000 | 1.935 | |
plot_regional_similarity | 1.576 | 0.016 | 1.593 | |
plot_river | 5.673 | 0.020 | 5.692 | |
plot_signature_strand_bias | 1.264 | 0.004 | 1.268 | |
plot_spectrum | 5.052 | 0.268 | 5.322 | |
plot_spectrum_region | 5.531 | 0.136 | 5.669 | |
plot_strand | 0.198 | 0.008 | 0.207 | |
plot_strand_bias | 1.021 | 0.052 | 1.073 | |
pool_mut_mat | 0.062 | 0.000 | 0.062 | |
read_vcfs_as_granges | 21.979 | 0.736 | 24.845 | |
rename_nmf_signatures | 0.031 | 0.040 | 0.071 | |
signature_potential_damage_analysis | 0.228 | 0.012 | 0.240 | |
split_muts_region | 4.830 | 0.284 | 5.114 | |
strand_bias_test | 0.273 | 0.016 | 0.288 | |
strand_occurrences | 0.207 | 0.012 | 0.220 | |
type_context | 1.391 | 0.288 | 1.678 | |