Name | Last modified | Size | Description | |
---|---|---|---|---|
Parent Directory | - | |||
buildbin-out.txt | 12-Jun-2024 04:40 | 1.1K | ||
buildbin-summary.dcf | 12-Jun-2024 04:40 | 551 | ||
buildsrc-out.txt | 12-Jun-2024 04:40 | 929 | ||
buildsrc-summary.dcf | 12-Jun-2024 04:40 | 477 | ||
checksrc-out.txt | 12-Jun-2024 04:40 | 7.4K | ||
checksrc-summary.dcf | 12-Jun-2024 04:40 | 472 | ||
install-out.txt | 12-Jun-2024 04:40 | 1.0K | ||
install-summary.dcf | 12-Jun-2024 04:40 | 280 | ||