Index of /checkResults/devel/bioc-LATEST/MungeSumstats/raw-results/palomino4

[ICO]NameLast modifiedSizeDescription

[DIR]Parent Directory  -  
[TXT]buildbin-out.txt25-Jun-2022 00:06 1.2K 
[   ]buildbin-summary.dcf25-Jun-2022 00:06 566  
[TXT]buildsrc-out.txt25-Jun-2022 00:06 928  
[   ]buildsrc-summary.dcf25-Jun-2022 00:06 474  
[TXT]checksrc-out.txt25-Jun-2022 00:06 3.4K 
[   ]checksrc-summary.dcf25-Jun-2022 00:06 472  
[TXT]install-out.txt25-Jun-2022 00:06 1.9K 
[   ]install-summary.dcf25-Jun-2022 00:06 676