Name | Last modified | Size | Description | |
---|---|---|---|---|
Parent Directory | - | |||
install-summary.dcf | 27-Jul-2024 00:38 | 271 | ||
checksrc-summary.dcf | 27-Jul-2024 00:38 | 438 | ||
buildsrc-summary.dcf | 27-Jul-2024 00:38 | 441 | ||
buildsrc-out.txt | 27-Jul-2024 00:38 | 917 | ||
install-out.txt | 27-Jul-2024 00:38 | 1.0K | ||
checksrc-out.txt | 27-Jul-2024 00:38 | 7.4K | ||