Name | Last modified | Size | Description | |
---|---|---|---|---|
Parent Directory | - | |||
buildbin-out.txt | 27-Jul-2024 00:41 | 1.2K | ||
buildbin-summary.dcf | 27-Jul-2024 00:41 | 565 | ||
buildsrc-out.txt | 27-Jul-2024 00:41 | 903 | ||
buildsrc-summary.dcf | 27-Jul-2024 00:41 | 446 | ||
checksrc-out.txt | 27-Jul-2024 00:41 | 7.5K | ||
checksrc-summary.dcf | 27-Jul-2024 00:41 | 469 | ||
install-out.txt | 27-Jul-2024 00:41 | 1.0K | ||
install-summary.dcf | 27-Jul-2024 00:41 | 281 | ||