Name | Last modified | Size | Description | |
---|---|---|---|---|
Parent Directory | - | |||
buildbin-out.txt | 12-Jun-2024 04:43 | 1.2K | ||
buildbin-summary.dcf | 12-Jun-2024 04:43 | 566 | ||
buildsrc-out.txt | 12-Jun-2024 04:43 | 903 | ||
buildsrc-summary.dcf | 12-Jun-2024 04:43 | 445 | ||
checksrc-out.txt | 12-Jun-2024 04:43 | 7.4K | ||
checksrc-summary.dcf | 12-Jun-2024 04:43 | 468 | ||
install-out.txt | 12-Jun-2024 04:43 | 1.0K | ||
install-summary.dcf | 12-Jun-2024 04:43 | 281 | ||