Name | Last modified | Size | Description | |
---|---|---|---|---|
Parent Directory | - | |||
install-summary.dcf | 01-Jun-2024 08:30 | 266 | ||
install-out.txt | 01-Jun-2024 08:30 | 2.6K | ||
checksrc-summary.dcf | 01-Jun-2024 08:30 | 448 | ||
checksrc-out.txt | 01-Jun-2024 08:30 | 4.3K | ||
buildsrc-summary.dcf | 01-Jun-2024 08:30 | 447 | ||
buildsrc-out.txt | 01-Jun-2024 08:30 | 836 | ||
buildbin-summary.dcf | 01-Jun-2024 08:30 | 509 | ||
buildbin-out.txt | 01-Jun-2024 08:30 | 2.7K | ||