Index of /checkResults/devel/bioc-LATEST/MouseFM/raw-results/nebbiolo2

[ICO]NameLast modifiedSizeDescription

[DIR]Parent Directory  -  
[TXT]buildsrc-out.txt04-Oct-2023 00:36 846  
[   ]buildsrc-summary.dcf04-Oct-2023 00:36 417  
[TXT]checksrc-out.txt04-Oct-2023 00:36 4.3K 
[   ]checksrc-summary.dcf04-Oct-2023 00:36 414  
[TXT]install-out.txt04-Oct-2023 00:36 952  
[   ]install-summary.dcf04-Oct-2023 00:36 259