![]() | Name | Last modified | Size | Description |
---|---|---|---|---|
![]() | Parent Directory | - | ||
![]() | buildbin-out.txt | 30-Sep-2023 01:05 | 1.1K | |
![]() | buildbin-summary.dcf | 30-Sep-2023 01:05 | 530 | |
![]() | buildsrc-out.txt | 30-Sep-2023 01:05 | 856 | |
![]() | buildsrc-summary.dcf | 30-Sep-2023 01:05 | 427 | |
![]() | checksrc-out.txt | 30-Sep-2023 01:05 | 4.3K | |
![]() | checksrc-summary.dcf | 30-Sep-2023 01:05 | 444 | |
![]() | install-out.txt | 30-Sep-2023 01:05 | 1.0K | |
![]() | install-summary.dcf | 30-Sep-2023 01:05 | 269 | |