Index of /checkResults/devel/bioc-LATEST/Motif2Site/raw-results

[ICO]NameLast modifiedSizeDescription

[DIR]Parent Directory  -  
[   ]info.dcf06-Jun-2023 00:07 284  
[DIR]lconway/06-Jun-2023 00:07 -  
[DIR]nebbiolo2/06-Jun-2023 00:05 -  
[DIR]palomino4/06-Jun-2023 00:06 -