Name | Last modified | Size | Description | |
---|---|---|---|---|
Parent Directory | - | |||
install-summary.dcf | 07-May-2024 00:37 | 266 | ||
install-out.txt | 07-May-2024 00:37 | 968 | ||
checksrc-summary.dcf | 07-May-2024 00:37 | 449 | ||
checksrc-out.txt | 07-May-2024 00:37 | 8.0K | ||
buildsrc-summary.dcf | 07-May-2024 00:37 | 447 | ||
buildsrc-out.txt | 07-May-2024 00:37 | 894 | ||
buildbin-summary.dcf | 07-May-2024 00:37 | 509 | ||
buildbin-out.txt | 07-May-2024 00:37 | 1.1K | ||