Index of /checkResults/devel/bioc-LATEST/MiRaGE/raw-results/lconway

[ICO]NameLast modifiedSizeDescription

[DIR]Parent Directory  -  
[TXT]buildbin-out.txt07-Jul-2022 00:09 1.1K 
[   ]buildbin-summary.dcf07-Jul-2022 00:09 524  
[TXT]buildsrc-out.txt07-Jul-2022 00:09 875  
[   ]buildsrc-summary.dcf07-Jul-2022 00:09 424  
[TXT]checksrc-out.txt07-Jul-2022 00:09 8.1K 
[   ]checksrc-summary.dcf07-Jul-2022 00:09 446  
[TXT]install-out.txt07-Jul-2022 00:09 1.0K 
[   ]install-summary.dcf07-Jul-2022 00:09 267