Index of /checkResults/devel/bioc-LATEST/Mfuzz/raw-results/palomino4

[ICO]NameLast modifiedSizeDescription

[DIR]Parent Directory  -  
[TXT]buildbin-out.txt01-Jul-2022 00:06 1.3K 
[   ]buildbin-summary.dcf01-Jul-2022 00:06 521  
[TXT]buildsrc-out.txt01-Jul-2022 00:06 1.0K 
[   ]buildsrc-summary.dcf01-Jul-2022 00:06 444  
[TXT]checksrc-out.txt01-Jul-2022 00:06 4.9K 
[   ]checksrc-summary.dcf01-Jul-2022 00:06 447  
[TXT]install-out.txt01-Jul-2022 00:06 1.9K 
[   ]install-summary.dcf01-Jul-2022 00:06 610