Index of /checkResults/devel/bioc-LATEST/Mfuzz/raw-results/nebbiolo2

[ICO]NameLast modifiedSizeDescription

[DIR]Parent Directory  -  
[TXT]buildsrc-out.txt25-Jun-2022 00:05 950  
[   ]buildsrc-summary.dcf25-Jun-2022 00:05 411  
[TXT]checksrc-out.txt25-Jun-2022 00:05 8.2K 
[   ]checksrc-summary.dcf25-Jun-2022 00:05 421  
[TXT]install-out.txt25-Jun-2022 00:05 1.1K 
[   ]install-summary.dcf25-Jun-2022 00:05 254