Index of /checkResults/devel/bioc-LATEST/Mfuzz/raw-results/lconway

[ICO]NameLast modifiedSizeDescription

[DIR]Parent Directory  -  
[TXT]buildbin-out.txt07-Jul-2022 00:09 1.3K 
[   ]buildbin-summary.dcf07-Jul-2022 00:09 517  
[TXT]buildsrc-out.txt07-Jul-2022 00:09 967  
[   ]buildsrc-summary.dcf07-Jul-2022 00:09 421  
[TXT]checksrc-out.txt07-Jul-2022 00:09 8.3K 
[   ]checksrc-summary.dcf07-Jul-2022 00:09 441  
[TXT]install-out.txt07-Jul-2022 00:09 1.1K 
[   ]install-summary.dcf07-Jul-2022 00:09 265