![]() | Name | Last modified | Size | Description |
---|---|---|---|---|
![]() | Parent Directory | - | ||
![]() | buildsrc-out.txt | 21-Apr-2023 01:50 | 842 | |
![]() | buildsrc-summary.dcf | 21-Apr-2023 01:50 | 415 | |
![]() | checksrc-out.txt | 21-Apr-2023 01:50 | 5.6K | |
![]() | checksrc-summary.dcf | 21-Apr-2023 01:50 | 414 | |
![]() | install-out.txt | 21-Apr-2023 01:50 | 1.2K | |
![]() | install-summary.dcf | 21-Apr-2023 01:50 | 257 | |