Back to Multiple platform build/check report for BioC 3.15
ABCDEFGHIJKL[M]NOPQRSTUVWXYZ

This page was generated on 2022-01-19 11:08:07 -0500 (Wed, 19 Jan 2022).

HostnameOSArch (*)R versionInstalled pkgs
nebbiolo1Linux (Ubuntu 20.04.4 LTS)x86_64R Under development (unstable) (2022-01-05 r81451) -- "Unsuffered Consequences" 4161
riesling1Windows Server 2019 Standardx64R Under development (unstable) (2021-11-21 r81221) -- "Unsuffered Consequences" 4056
palomino3Windows Server 2022 Datacenterx64R Under development (unstable) (2021-12-21 r81400 ucrt) -- "Unsuffered Consequences" 3998
merida1macOS 10.14.6 Mojavex86_64R Under development (unstable) (2022-01-05 r81451) -- "Unsuffered Consequences" 4115
Click on any hostname to see more info about the system (e.g. compilers)      (*) as reported by 'uname -p', except on Windows and Mac OS X

BUILD BIN results for MetaboSignal on riesling1


To the developers/maintainers of the MetaboSignal package:
- Please allow up to 24 hours (and sometimes 48 hours) for your latest push to git@git.bioconductor.org:packages/MetaboSignal.git to
reflect on this report. See How and When does the builder pull? When will my changes propagate? here for more information.
- Make sure to use the following settings in order to reproduce any error or warning you see on this page.

raw results

Package 1091/2074HostnameOS / ArchINSTALLBUILDCHECKBUILD BIN
MetaboSignal 1.25.0  (landing page)
Andrea Rodriguez-Martinez
Snapshot Date: 2022-01-18 13:55:18 -0500 (Tue, 18 Jan 2022)
git_url: https://git.bioconductor.org/packages/MetaboSignal
git_branch: master
git_last_commit: 79e0f91
git_last_commit_date: 2021-10-26 12:29:51 -0500 (Tue, 26 Oct 2021)
nebbiolo1Linux (Ubuntu 20.04.4 LTS) / x86_64  OK    OK    OK  UNNEEDED, same version is already published
riesling1Windows Server 2019 Standard / x64  OK    OK    OK    OK  
palomino3Windows Server 2022 Datacenter / x64  OK    OK    OK    OK  NO, package depends on 'KEGGgraph' which is not available
merida1macOS 10.14.6 Mojave / x86_64  OK    OK    OK    OK  UNNEEDED, same version is already published

Summary

Package: MetaboSignal
Version: 1.25.0
Command: rm -rf MetaboSignal.buildbin-libdir && mkdir MetaboSignal.buildbin-libdir && D:\biocbuild\bbs-3.15-bioc\R\bin\R.exe CMD INSTALL --build --library=MetaboSignal.buildbin-libdir MetaboSignal_1.25.0.tar.gz
StartedAt: 2022-01-18 21:02:02 -0500 (Tue, 18 Jan 2022)
EndedAt: 2022-01-18 21:03:02 -0500 (Tue, 18 Jan 2022)
EllapsedTime: 60.2 seconds
RetCode: 0
Status:   OK  
PackageFile: MetaboSignal_1.25.0.zip
PackageFileSize: 2.714 MiB

Command output

##############################################################################
##############################################################################
###
### Running command:
###
###   rm -rf MetaboSignal.buildbin-libdir && mkdir MetaboSignal.buildbin-libdir && D:\biocbuild\bbs-3.15-bioc\R\bin\R.exe CMD INSTALL --build --library=MetaboSignal.buildbin-libdir MetaboSignal_1.25.0.tar.gz
###
##############################################################################
##############################################################################


* installing *source* package 'MetaboSignal' ...
** using staged installation
** R
** data
*** moving datasets to lazyload DB
** inst
** byte-compile and prepare package for lazy loading
** help
*** installing help indices
  converting help for package 'MetaboSignal'
    finding HTML links ... done
    MS2_mergeNetworks                       html  
    MS2_ppiNetwork                          html  
    MS_changeNames                          html  
    MS_convertGene                          html  
    MS_distances                            html  
    MS_exportCytoscape                      html  
    MS_findMappedNodes                      html  
    MS_getPathIds                           html  
    MS_keggFinder                           html  
    MS_keggNetwork                          html  
    MS_nodeBW                               html  
    MS_reactionNetwork                      html  
    MS_removeDrugs                          html  
    MS_removeNode                           html  
    MS_replaceNode                          html  
    MS_shortestPaths                        html  
    MS_shortestPathsNetwork                 html  
    MS_tissueFilter                         html  
    MS_topologyFilter                       html  
    MetaboSignal_table                      html  
    directionality_reactions                html  
    hpaNormalTissue                         html  
    keggNet_example                         html  
    kegg_pathways                           html  
    mergedNet_example                       html  
    ppiNet_example                          html  
    regulatory_interactions                 html  
** building package indices
** installing vignettes
** testing if installed package can be loaded from temporary location
** testing if installed package can be loaded from final location
** testing if installed package keeps a record of temporary installation path
* MD5 sums
packaged installation of 'MetaboSignal' as MetaboSignal_1.25.0.zip
* DONE (MetaboSignal)